BEGIN:VCALENDAR
VERSION:2.0
PRODID:-//Bush Agility
CALSCALE:GREGORIAN
METHOD:PUBLISH
X-WR-CALNAME:Bush Agility
X-ORIGINAL-URL:https://bushagility.com/product/safe-lean-portfolio-management-lpm-training-remote-pacific-time-5/
X-WR-CALDESC:SAFe Lean Portfolio Management (LPM) Training &#8211; Remote (Pacific Time)
BEGIN:VEVENT
DTSTART;TZID=America/Denver:20260425T080000
DTEND;TZID=America/Denver:20260426T170000
SUMMARY:SAFe Lean Portfolio Management (LPM) Training – Remote (Pacific Time)
DESCRIPTION:
URL:https://bushagility.com/product/safe-lean-portfolio-management-lpm-training-remote-pacific-time-5/
LOCATION:Remote
END:VEVENT
END:VCALENDAR
